Package: CompoundDb Version: 1.8.0 Command: /Library/Frameworks/R.framework/Resources/bin/R CMD build --keep-empty-dirs --no-resave-data CompoundDb StartedAt: 2024-10-16 18:10:29 -0400 (Wed, 16 Oct 2024) EndedAt: 2024-10-16 18:12:04 -0400 (Wed, 16 Oct 2024) EllapsedTime: 94.3 seconds RetCode: 0 Status: OK PackageFile: CompoundDb_1.8.0.tar.gz PackageFileSize: 1.295 MiB