Package: CompoundDb Version: 1.8.0 Command: rm -rf CompoundDb.buildbin-libdir && mkdir CompoundDb.buildbin-libdir && /Users/biocbuild/BBS/utils/build-universal.sh CompoundDb_1.8.0.tar.gz /Library/Frameworks/R.framework/Resources/bin/R CompoundDb.buildbin-libdir StartedAt: 2024-10-17 15:54:23 -0400 (Thu, 17 Oct 2024) EndedAt: 2024-10-17 15:55:20 -0400 (Thu, 17 Oct 2024) EllapsedTime: 56.3 seconds RetCode: 0 Status: OK PackageFile: CompoundDb_1.8.0.tgz PackageFileSize: 1.421 MiB