Package: CompoundDb Version: 1.8.0 Command: /Library/Frameworks/R.framework/Resources/bin/R CMD INSTALL CompoundDb StartedAt: 2024-10-16 18:35:50 -0400 (Wed, 16 Oct 2024) EndedAt: 2024-10-16 18:36:15 -0400 (Wed, 16 Oct 2024) EllapsedTime: 24.3 seconds RetCode: 0 Status: OK