Package: ComplexHeatmap Version: 2.20.0 Command: E:\biocbuild\bbs-3.19-bioc\R\bin\R.exe CMD INSTALL ComplexHeatmap StartedAt: 2024-10-16 16:37:16 -0400 (Wed, 16 Oct 2024) EndedAt: 2024-10-16 16:40:40 -0400 (Wed, 16 Oct 2024) EllapsedTime: 203.9 seconds RetCode: 0 Status: OK