Package: ComplexHeatmap Version: 2.20.0 Command: chmod a+r ComplexHeatmap -R && E:\biocbuild\bbs-3.19-bioc\R\bin\R.exe CMD build --keep-empty-dirs --no-resave-data ComplexHeatmap StartedAt: 2024-10-16 18:20:48 -0400 (Wed, 16 Oct 2024) EndedAt: 2024-10-16 18:23:05 -0400 (Wed, 16 Oct 2024) EllapsedTime: 137.4 seconds RetCode: 0 Status: OK PackageFile: ComplexHeatmap_2.20.0.tar.gz PackageFileSize: 1.374 MiB