Package: ComplexHeatmap Version: 2.20.0 Command: /home/biocbuild/bbs-3.19-bioc/R/bin/R CMD check --install=check:ComplexHeatmap.install-out.txt --library=/home/biocbuild/bbs-3.19-bioc/R/site-library --timings ComplexHeatmap_2.20.0.tar.gz StartedAt: 2024-10-16 23:02:36 -0400 (Wed, 16 Oct 2024) EndedAt: 2024-10-16 23:08:04 -0400 (Wed, 16 Oct 2024) EllapsedTime: 327.7 seconds RetCode: 0 Status: OK CheckDir: ComplexHeatmap.Rcheck Warnings: 0