Package: ComplexHeatmap Version: 2.20.0 Command: /home/biocbuild/R/R-beta-2024-04-15_r86425/bin/R CMD check --install=check:ComplexHeatmap.install-out.txt --library=/home/biocbuild/R/R-beta-2024-04-15_r86425/site-library --no-vignettes --timings ComplexHeatmap_2.20.0.tar.gz StartedAt: 2024-05-09 06:07:03 -0000 (Thu, 09 May 2024) EndedAt: 2024-05-09 06:14:17 -0000 (Thu, 09 May 2024) EllapsedTime: 433.7 seconds RetCode: 0 Status: OK CheckDir: ComplexHeatmap.Rcheck Warnings: 0