Package: ComplexHeatmap Version: 2.20.0 Command: rm -rf ComplexHeatmap.buildbin-libdir && mkdir ComplexHeatmap.buildbin-libdir && /Users/biocbuild/BBS/utils/build-universal.sh ComplexHeatmap_2.20.0.tar.gz /Library/Frameworks/R.framework/Resources/bin/R ComplexHeatmap.buildbin-libdir StartedAt: 2024-06-11 10:41:22 -0400 (Tue, 11 Jun 2024) EndedAt: 2024-06-11 10:42:06 -0400 (Tue, 11 Jun 2024) EllapsedTime: 43.6 seconds RetCode: 0 Status: OK PackageFile: ComplexHeatmap_2.20.0.tgz PackageFileSize: 3.011 MiB