Package: ComplexHeatmap Version: 2.20.0 Command: /Library/Frameworks/R.framework/Resources/bin/R CMD build --keep-empty-dirs --no-resave-data ComplexHeatmap StartedAt: 2024-10-16 22:04:04 -0400 (Wed, 16 Oct 2024) EndedAt: 2024-10-16 22:04:40 -0400 (Wed, 16 Oct 2024) EllapsedTime: 36.6 seconds RetCode: 0 Status: OK PackageFile: ComplexHeatmap_2.20.0.tar.gz PackageFileSize: 1.41 MiB