Package: ComPrAn Version: 1.12.0 Command: rm -rf ComPrAn.buildbin-libdir && mkdir ComPrAn.buildbin-libdir && F:\biocbuild\bbs-3.19-bioc\R\bin\R.exe CMD INSTALL --build --library=ComPrAn.buildbin-libdir ComPrAn_1.12.0.tar.gz StartedAt: 2024-06-27 08:02:07 -0400 (Thu, 27 Jun 2024) EndedAt: 2024-06-27 08:02:22 -0400 (Thu, 27 Jun 2024) EllapsedTime: 15.1 seconds RetCode: 0 Status: OK PackageFile: ComPrAn_1.12.0.zip PackageFileSize: 2.257 MiB