Package: ComPrAn Version: 1.12.0 Command: /Library/Frameworks/R.framework/Resources/bin/R CMD check --install=check:ComPrAn.install-out.txt --library=/Library/Frameworks/R.framework/Resources/library --no-vignettes --timings ComPrAn_1.12.0.tar.gz StartedAt: 2024-06-09 19:35:42 -0400 (Sun, 09 Jun 2024) EndedAt: 2024-06-09 19:36:54 -0400 (Sun, 09 Jun 2024) EllapsedTime: 71.9 seconds RetCode: 0 Status: OK CheckDir: ComPrAn.Rcheck Warnings: 0