Package: ComPrAn Version: 1.12.0 Command: /home/biocbuild/R/R-beta-2024-04-15_r86425/bin/R CMD build --keep-empty-dirs --no-resave-data ComPrAn StartedAt: 2024-05-08 23:30:31 -0000 (Wed, 08 May 2024) EndedAt: 2024-05-08 23:31:02 -0000 (Wed, 08 May 2024) EllapsedTime: 31.0 seconds RetCode: 0 Status: OK PackageFile: ComPrAn_1.12.0.tar.gz PackageFileSize: 3.092 MiB