Package: ComPrAn Version: 1.12.0 Command: rm -rf ComPrAn.buildbin-libdir && mkdir ComPrAn.buildbin-libdir && /Users/biocbuild/BBS/utils/build-universal.sh ComPrAn_1.12.0.tar.gz /Library/Frameworks/R.framework/Resources/bin/R ComPrAn.buildbin-libdir StartedAt: 2024-06-11 10:41:27 -0400 (Tue, 11 Jun 2024) EndedAt: 2024-06-11 10:41:41 -0400 (Tue, 11 Jun 2024) EllapsedTime: 14.3 seconds RetCode: 0 Status: OK PackageFile: ComPrAn_1.12.0.tgz PackageFileSize: 2.56 MiB