Package: Cogito Version: 1.10.0 Command: chmod a+r Cogito -R && E:\biocbuild\bbs-3.19-bioc\R\bin\R.exe CMD build --keep-empty-dirs --no-resave-data Cogito StartedAt: 2024-10-16 18:19:21 -0400 (Wed, 16 Oct 2024) EndedAt: 2024-10-16 18:20:42 -0400 (Wed, 16 Oct 2024) EllapsedTime: 81.1 seconds RetCode: 0 Status: OK PackageFile: Cogito_1.10.0.tar.gz PackageFileSize: 869 KiB