Package: Cogito Version: 1.10.0 Command: rm -rf Cogito.buildbin-libdir && mkdir Cogito.buildbin-libdir && E:\biocbuild\bbs-3.19-bioc\R\bin\R.exe CMD INSTALL --build --library=Cogito.buildbin-libdir Cogito_1.10.0.tar.gz StartedAt: 2024-10-17 07:34:36 -0400 (Thu, 17 Oct 2024) EndedAt: 2024-10-17 07:35:16 -0400 (Thu, 17 Oct 2024) EllapsedTime: 40.2 seconds RetCode: 0 Status: OK PackageFile: Cogito_1.10.0.zip PackageFileSize: 1.223 MiB