Package: Cogito Version: 1.10.0 Command: /home/biocbuild/bbs-3.19-bioc/R/bin/R CMD INSTALL Cogito StartedAt: 2024-10-16 16:20:58 -0400 (Wed, 16 Oct 2024) EndedAt: 2024-10-16 16:21:34 -0400 (Wed, 16 Oct 2024) EllapsedTime: 36.4 seconds RetCode: 0 Status: OK