Package: Cogito Version: 1.10.0 Command: /home/biocbuild/bbs-3.19-bioc/R/bin/R CMD build --keep-empty-dirs --no-resave-data Cogito StartedAt: 2024-10-16 17:54:00 -0400 (Wed, 16 Oct 2024) EndedAt: 2024-10-16 17:55:09 -0400 (Wed, 16 Oct 2024) EllapsedTime: 69.1 seconds RetCode: 0 Status: OK PackageFile: Cogito_1.10.0.tar.gz PackageFileSize: 869 KiB