Package: Cogito Version: 1.10.0 Command: /Library/Frameworks/R.framework/Resources/bin/R CMD check --install=check:Cogito.install-out.txt --library=/Library/Frameworks/R.framework/Resources/library --no-vignettes --timings Cogito_1.10.0.tar.gz StartedAt: 2024-06-09 19:33:20 -0400 (Sun, 09 Jun 2024) EndedAt: 2024-06-09 19:38:16 -0400 (Sun, 09 Jun 2024) EllapsedTime: 296.0 seconds RetCode: 0 Status: OK CheckDir: Cogito.Rcheck Warnings: 0