Package: Cogito Version: 1.10.0 Command: /Library/Frameworks/R.framework/Resources/bin/R CMD build --keep-empty-dirs --no-resave-data Cogito StartedAt: 2024-06-09 16:15:48 -0400 (Sun, 09 Jun 2024) EndedAt: 2024-06-09 16:17:01 -0400 (Sun, 09 Jun 2024) EllapsedTime: 73.2 seconds RetCode: 0 Status: OK PackageFile: Cogito_1.10.0.tar.gz PackageFileSize: 868.9 KiB