Package: Cogito Version: 1.10.0 Command: rm -rf Cogito.buildbin-libdir && mkdir Cogito.buildbin-libdir && /Users/biocbuild/BBS/utils/build-universal.sh Cogito_1.10.0.tar.gz /Library/Frameworks/R.framework/Resources/bin/R Cogito.buildbin-libdir StartedAt: 2024-06-10 00:12:30 -0400 (Mon, 10 Jun 2024) EndedAt: 2024-06-10 00:13:22 -0400 (Mon, 10 Jun 2024) EllapsedTime: 52.2 seconds RetCode: 0 Status: OK PackageFile: Cogito_1.10.0.tgz PackageFileSize: 1.246 MiB