Package: Cogito Version: 1.10.0 Command: /home/biocbuild/R/R-beta-2024-04-15_r86425/bin/R CMD INSTALL Cogito StartedAt: 2024-05-08 20:38:35 -0000 (Wed, 08 May 2024) EndedAt: 2024-05-08 20:39:26 -0000 (Wed, 08 May 2024) EllapsedTime: 50.8 seconds RetCode: 0 Status: OK