Package: Cogito Version: 1.10.0 Command: /home/biocbuild/R/R-beta-2024-04-15_r86425/bin/R CMD build --keep-empty-dirs --no-resave-data Cogito StartedAt: 2024-05-08 23:27:34 -0000 (Wed, 08 May 2024) EndedAt: 2024-05-08 23:29:07 -0000 (Wed, 08 May 2024) EllapsedTime: 93.1 seconds RetCode: 0 Status: OK PackageFile: Cogito_1.10.0.tar.gz PackageFileSize: 892.9 KiB