Package: Cogito Version: 1.10.0 Command: /Library/Frameworks/R.framework/Resources/bin/R CMD build --keep-empty-dirs --no-resave-data Cogito StartedAt: 2024-10-16 21:59:46 -0400 (Wed, 16 Oct 2024) EndedAt: 2024-10-16 22:01:08 -0400 (Wed, 16 Oct 2024) EllapsedTime: 82.1 seconds RetCode: 0 Status: OK PackageFile: Cogito_1.10.0.tar.gz PackageFileSize: 869 KiB