Package: CoSIA Version: 1.4.2 Command: /home/biocbuild/bbs-3.19-bioc/R/bin/R CMD check --install=check:CoSIA.install-out.txt --library=/home/biocbuild/bbs-3.19-bioc/R/site-library --timings CoSIA_1.4.2.tar.gz StartedAt: 2024-10-16 23:08:04 -0400 (Wed, 16 Oct 2024) EndedAt: 2024-10-16 23:48:05 -0400 (Wed, 16 Oct 2024) EllapsedTime: 2400.9 seconds RetCode: None Status: TIMEOUT CheckDir: CoSIA.Rcheck Warnings: NA