Package: CoSIA Version: 1.3.0 Command: /Library/Frameworks/R.framework/Resources/bin/R CMD check --install=check:CoSIA.install-out.txt --library=/Library/Frameworks/R.framework/Resources/library --no-vignettes --timings CoSIA_1.3.0.tar.gz StartedAt: 2023-11-14 00:40:01 -0500 (Tue, 14 Nov 2023) EndedAt: 2023-11-14 01:04:56 -0500 (Tue, 14 Nov 2023) EllapsedTime: 1495.2 seconds RetCode: 0 Status: OK CheckDir: CoSIA.Rcheck Warnings: 0