Package: CoSIA Version: 1.4.2 Command: /Library/Frameworks/R.framework/Resources/bin/R CMD build --keep-empty-dirs --no-resave-data CoSIA StartedAt: 2024-10-16 18:15:05 -0400 (Wed, 16 Oct 2024) EndedAt: 2024-10-16 18:55:05 -0400 (Wed, 16 Oct 2024) EllapsedTime: 2400.9 seconds RetCode: None Status: TIMEOUT PackageFile: None PackageFileSize: NA