Package: CoSIA Version: 1.3.0 Command: rm -rf CoSIA.buildbin-libdir && mkdir CoSIA.buildbin-libdir && /Users/biocbuild/BBS/utils/build-universal.sh CoSIA_1.3.0.tar.gz /Library/Frameworks/R.framework/Resources/bin/R CoSIA.buildbin-libdir StartedAt: 2023-11-14 10:47:27 -0500 (Tue, 14 Nov 2023) EndedAt: 2023-11-14 10:48:39 -0500 (Tue, 14 Nov 2023) EllapsedTime: 72.1 seconds RetCode: 0 Status: OK PackageFile: CoSIA_1.3.0.tgz PackageFileSize: 1.546 MiB