Package: CoSIA Version: 1.4.2 Command: /Library/Frameworks/R.framework/Resources/bin/R CMD INSTALL CoSIA StartedAt: 2024-10-16 17:26:30 -0400 (Wed, 16 Oct 2024) EndedAt: 2024-10-16 17:26:50 -0400 (Wed, 16 Oct 2024) EllapsedTime: 19.8 seconds RetCode: 0 Status: OK