Package: CoSIA Version: 1.4.2 Maintainer: Amanda D. Clark MaintainerEmail: amanda at freshairfamily.org git_url: https://git.bioconductor.org/packages/CoSIA git_branch: RELEASE_3_19 git_last_commit: af47885 git_last_commit_date: 2024-10-10 12:17:05 -0400 (Thu, 10 Oct 2024)