Package: CoRegNet Version: 1.42.0 Command: /Library/Frameworks/R.framework/Resources/bin/R CMD INSTALL CoRegNet StartedAt: 2024-06-09 16:19:35 -0400 (Sun, 09 Jun 2024) EndedAt: 2024-06-09 16:19:51 -0400 (Sun, 09 Jun 2024) EllapsedTime: 15.9 seconds RetCode: 0 Status: OK