Package: CoRegNet Version: 1.42.0 Command: /Library/Frameworks/R.framework/Resources/bin/R CMD INSTALL CoRegNet StartedAt: 2024-10-16 17:15:30 -0400 (Wed, 16 Oct 2024) EndedAt: 2024-10-16 17:15:44 -0400 (Wed, 16 Oct 2024) EllapsedTime: 14.5 seconds RetCode: 0 Status: OK