Package: CoRegNet Version: 1.42.0 Maintainer: Remy Nicolle MaintainerEmail: remy.c.nicolle at gmail.com git_url: https://git.bioconductor.org/packages/CoRegNet git_branch: RELEASE_3_19 git_last_commit: 5c53d2e git_last_commit_date: 2024-04-30 10:39:59 -0400 (Tue, 30 Apr 2024)