Package: CoGAPS Version: 3.24.0 Command: E:\biocbuild\bbs-3.19-bioc\R\bin\R.exe CMD INSTALL CoGAPS StartedAt: 2024-10-16 17:01:56 -0400 (Wed, 16 Oct 2024) EndedAt: 2024-10-16 17:04:45 -0400 (Wed, 16 Oct 2024) EllapsedTime: 169.1 seconds RetCode: 0 Status: OK