Package: CoCiteStats Version: 1.76.0 Command: chmod a+r CoCiteStats -R && E:\biocbuild\bbs-3.19-bioc\R\bin\R.exe CMD build --keep-empty-dirs --no-resave-data CoCiteStats StartedAt: 2024-10-16 18:18:27 -0400 (Wed, 16 Oct 2024) EndedAt: 2024-10-16 18:18:29 -0400 (Wed, 16 Oct 2024) EllapsedTime: 2.0 seconds RetCode: 0 Status: OK PackageFile: CoCiteStats_1.76.0.tar.gz PackageFileSize: 5.346 KiB