Package: CoCiteStats Version: 1.76.0 Command: F:\biocbuild\bbs-3.19-bioc\R\bin\R.exe CMD INSTALL CoCiteStats StartedAt: 2024-06-26 15:57:48 -0400 (Wed, 26 Jun 2024) EndedAt: 2024-06-26 15:58:16 -0400 (Wed, 26 Jun 2024) EllapsedTime: 28.3 seconds RetCode: 0 Status: OK