Package: CoCiteStats Version: 1.76.0 Command: /home/biocbuild/bbs-3.19-bioc/R/bin/R CMD build --keep-empty-dirs --no-resave-data CoCiteStats StartedAt: 2024-10-16 17:53:19 -0400 (Wed, 16 Oct 2024) EndedAt: 2024-10-16 17:53:20 -0400 (Wed, 16 Oct 2024) EllapsedTime: 1.0 seconds RetCode: 0 Status: OK PackageFile: CoCiteStats_1.76.0.tar.gz PackageFileSize: 5.344 KiB