Package: CoCiteStats Version: 1.76.0 Command: /Library/Frameworks/R.framework/Resources/bin/R CMD INSTALL CoCiteStats StartedAt: 2024-06-09 15:10:14 -0400 (Sun, 09 Jun 2024) EndedAt: 2024-06-09 15:10:33 -0400 (Sun, 09 Jun 2024) EllapsedTime: 18.8 seconds RetCode: 0 Status: OK