Package: ClusterSignificance Version: 1.32.0 Command: rm -rf ClusterSignificance.buildbin-libdir && mkdir ClusterSignificance.buildbin-libdir && E:\biocbuild\bbs-3.19-bioc\R\bin\R.exe CMD INSTALL --build --library=ClusterSignificance.buildbin-libdir ClusterSignificance_1.32.0.tar.gz StartedAt: 2024-10-17 07:33:24 -0400 (Thu, 17 Oct 2024) EndedAt: 2024-10-17 07:36:48 -0400 (Thu, 17 Oct 2024) EllapsedTime: 204.2 seconds RetCode: 0 Status: OK PackageFile: ClusterSignificance_1.32.0.zip PackageFileSize: 1.52 MiB