Package: ClusterSignificance Version: 1.32.0 Command: /home/biocbuild/bbs-3.19-bioc/R/bin/R CMD check --install=check:ClusterSignificance.install-out.txt --library=/home/biocbuild/bbs-3.19-bioc/R/site-library --timings ClusterSignificance_1.32.0.tar.gz StartedAt: 2024-10-16 22:53:03 -0400 (Wed, 16 Oct 2024) EndedAt: 2024-10-16 22:54:27 -0400 (Wed, 16 Oct 2024) EllapsedTime: 84.2 seconds RetCode: 0 Status: OK CheckDir: ClusterSignificance.Rcheck Warnings: 0