Package: ClusterSignificance Version: 1.32.0 Command: /Library/Frameworks/R.framework/Resources/bin/R CMD check --install=check:ClusterSignificance.install-out.txt --library=/Library/Frameworks/R.framework/Resources/library --no-vignettes --timings ClusterSignificance_1.32.0.tar.gz StartedAt: 2024-06-10 10:59:29 -0400 (Mon, 10 Jun 2024) EndedAt: 2024-06-10 11:00:38 -0400 (Mon, 10 Jun 2024) EllapsedTime: 69.0 seconds RetCode: 0 Status: OK CheckDir: ClusterSignificance.Rcheck Warnings: 0