Package: ClusterSignificance Version: 1.32.0 Command: /Library/Frameworks/R.framework/Resources/bin/R CMD build --keep-empty-dirs --no-resave-data ClusterSignificance StartedAt: 2024-10-16 21:49:51 -0400 (Wed, 16 Oct 2024) EndedAt: 2024-10-16 21:50:50 -0400 (Wed, 16 Oct 2024) EllapsedTime: 58.7 seconds RetCode: 0 Status: OK PackageFile: ClusterSignificance_1.32.0.tar.gz PackageFileSize: 2.112 MiB