Package: ClusterJudge Version: 1.26.0 Command: E:\biocbuild\bbs-3.19-bioc\R\bin\R.exe CMD INSTALL ClusterJudge StartedAt: 2024-10-16 16:07:20 -0400 (Wed, 16 Oct 2024) EndedAt: 2024-10-16 16:07:34 -0400 (Wed, 16 Oct 2024) EllapsedTime: 14.0 seconds RetCode: 0 Status: OK