Package: ClusterJudge Version: 1.26.0 Command: /home/biocbuild/bbs-3.19-bioc/R/bin/R CMD build --keep-empty-dirs --no-resave-data ClusterJudge StartedAt: 2024-10-16 17:49:48 -0400 (Wed, 16 Oct 2024) EndedAt: 2024-10-16 17:50:31 -0400 (Wed, 16 Oct 2024) EllapsedTime: 43.0 seconds RetCode: 0 Status: OK PackageFile: ClusterJudge_1.26.0.tar.gz PackageFileSize: 921 KiB