Package: ClusterJudge Version: 1.26.0 Command: /home/biocbuild/R/R-beta-2024-04-15_r86425/bin/R CMD INSTALL ClusterJudge StartedAt: 2024-05-08 20:09:28 -0000 (Wed, 08 May 2024) EndedAt: 2024-05-08 20:09:54 -0000 (Wed, 08 May 2024) EllapsedTime: 25.9 seconds RetCode: 0 Status: OK