Package: ClusterJudge Version: 1.26.0 Command: /home/biocbuild/R/R-beta-2024-04-15_r86425/bin/R CMD build --keep-empty-dirs --no-resave-data ClusterJudge StartedAt: 2024-05-08 23:22:53 -0000 (Wed, 08 May 2024) EndedAt: 2024-05-08 23:23:56 -0000 (Wed, 08 May 2024) EllapsedTime: 63.1 seconds RetCode: 0 Status: OK PackageFile: ClusterJudge_1.26.0.tar.gz PackageFileSize: 865.1 KiB