Package: ClusterFoldSimilarity Version: 1.0.0 Command: rm -rf ClusterFoldSimilarity.buildbin-libdir && mkdir ClusterFoldSimilarity.buildbin-libdir && E:\biocbuild\bbs-3.19-bioc\R\bin\R.exe CMD INSTALL --build --library=ClusterFoldSimilarity.buildbin-libdir ClusterFoldSimilarity_1.0.0.tar.gz StartedAt: 2024-10-17 07:33:18 -0400 (Thu, 17 Oct 2024) EndedAt: 2024-10-17 07:34:47 -0400 (Thu, 17 Oct 2024) EllapsedTime: 88.6 seconds RetCode: 0 Status: OK PackageFile: ClusterFoldSimilarity_1.0.0.zip PackageFileSize: 795.1 KiB