Package: ClusterFoldSimilarity Version: 1.0.0 Command: F:\biocbuild\bbs-3.19-bioc\R\bin\R.exe CMD check --no-multiarch --install=check:ClusterFoldSimilarity.install-out.txt --library=F:\biocbuild\bbs-3.19-bioc\R\library --no-vignettes --timings ClusterFoldSimilarity_1.0.0.tar.gz StartedAt: 2024-06-27 00:09:58 -0400 (Thu, 27 Jun 2024) EndedAt: 2024-06-27 00:14:51 -0400 (Thu, 27 Jun 2024) EllapsedTime: 292.9 seconds RetCode: 0 Status: OK CheckDir: ClusterFoldSimilarity.Rcheck Warnings: 0