Package: ClusterFoldSimilarity Version: 1.0.0 Command: chmod a+r ClusterFoldSimilarity -R && F:\biocbuild\bbs-3.19-bioc\R\bin\R.exe CMD build --keep-empty-dirs --no-resave-data ClusterFoldSimilarity StartedAt: 2024-06-26 17:51:48 -0400 (Wed, 26 Jun 2024) EndedAt: 2024-06-26 18:03:24 -0400 (Wed, 26 Jun 2024) EllapsedTime: 696.2 seconds RetCode: 0 Status: OK PackageFile: ClusterFoldSimilarity_1.0.0.tar.gz PackageFileSize: 1.358 MiB