Package: ClusterFoldSimilarity Version: 1.0.0 Command: rm -rf ClusterFoldSimilarity.buildbin-libdir && mkdir ClusterFoldSimilarity.buildbin-libdir && F:\biocbuild\bbs-3.19-bioc\R\bin\R.exe CMD INSTALL --build --library=ClusterFoldSimilarity.buildbin-libdir ClusterFoldSimilarity_1.0.0.tar.gz StartedAt: 2024-06-27 08:00:26 -0400 (Thu, 27 Jun 2024) EndedAt: 2024-06-27 08:01:26 -0400 (Thu, 27 Jun 2024) EllapsedTime: 59.7 seconds RetCode: 0 Status: OK PackageFile: ClusterFoldSimilarity_1.0.0.zip PackageFileSize: 795.7 KiB