Package: ClusterFoldSimilarity Version: 1.0.0 Command: /home/biocbuild/bbs-3.19-bioc/R/bin/R CMD INSTALL ClusterFoldSimilarity StartedAt: 2024-10-16 16:33:44 -0400 (Wed, 16 Oct 2024) EndedAt: 2024-10-16 16:34:18 -0400 (Wed, 16 Oct 2024) EllapsedTime: 34.2 seconds RetCode: 0 Status: OK